BEGIN:VCALENDAR
VERSION:2.0
CALSCALE:GREGORIAN
PRODID:adamgibbons/ics
METHOD:PUBLISH
X-PUBLISHED-TTL:PT1H
BEGIN:VEVENT
UID:121@tfnb.ca
SUMMARY:FnB Kensington Market Meal
DTSTAMP:20260419T121906Z
DTSTART:20260423T210000Z
DTEND:20260423T230000Z
URL:https://tfnb.ca/event/fnb-kensington-market-meal-11
LOCATION:Toronto Public Library - Lillian H. Smith Branch - 239 College St 
	(College & Huron)
STATUS:CONFIRMED
CATEGORIES:distro,kensington market,meal provided
END:VEVENT
END:VCALENDAR
